Package: ccrepe Version: 1.42.0 Command: /Library/Frameworks/R.framework/Resources/bin/R CMD INSTALL ccrepe StartedAt: 2025-02-03 15:12:41 -0500 (Mon, 03 Feb 2025) EndedAt: 2025-02-03 15:12:58 -0500 (Mon, 03 Feb 2025) EllapsedTime: 16.9 seconds RetCode: 0 Status: OK