Package: ccrepe Version: 1.42.0 Command: /home/biocbuild/bbs-3.20-bioc/R/bin/R CMD build --keep-empty-dirs --no-resave-data --md5 ccrepe StartedAt: 2025-02-03 16:43:59 -0500 (Mon, 03 Feb 2025) EndedAt: 2025-02-03 16:44:10 -0500 (Mon, 03 Feb 2025) EllapsedTime: 11.0 seconds RetCode: 0 Status: OK PackageFile: ccrepe_1.42.0.tar.gz PackageFileSize: 304.6 KiB