Package: ccrepe Version: 1.41.0 Command: chmod a+r ccrepe -R && F:\biocbuild\bbs-3.20-bioc\R\bin\R.exe CMD build --keep-empty-dirs --no-resave-data ccrepe StartedAt: 2024-06-09 17:45:47 -0400 (Sun, 09 Jun 2024) EndedAt: 2024-06-09 17:46:16 -0400 (Sun, 09 Jun 2024) EllapsedTime: 29.0 seconds RetCode: 1 Status: ERROR PackageFile: None PackageFileSize: NA