Package: ccrepe Version: 1.42.0 Command: chmod a+r ccrepe -R && F:\biocbuild\bbs-3.20-bioc\R\bin\R.exe CMD build --keep-empty-dirs --no-resave-data ccrepe StartedAt: 2025-02-03 17:59:14 -0500 (Mon, 03 Feb 2025) EndedAt: 2025-02-03 17:59:47 -0500 (Mon, 03 Feb 2025) EllapsedTime: 32.4 seconds RetCode: 0 Status: OK PackageFile: ccrepe_1.42.0.tar.gz PackageFileSize: 305.2 KiB