Package: ccrepe Version: 1.42.0 Command: F:\biocbuild\bbs-3.20-bioc\R\bin\R.exe CMD INSTALL ccrepe StartedAt: 2025-02-17 15:20:36 -0500 (Mon, 17 Feb 2025) EndedAt: 2025-02-17 15:20:48 -0500 (Mon, 17 Feb 2025) EllapsedTime: 12.1 seconds RetCode: 0 Status: OK