Package: ccrepe Version: 1.42.0 Command: /home/biocbuild/R/R/bin/R CMD build --keep-empty-dirs --no-resave-data ccrepe StartedAt: 2025-02-03 22:26:22 -0000 (Mon, 03 Feb 2025) EndedAt: 2025-02-03 22:26:34 -0000 (Mon, 03 Feb 2025) EllapsedTime: 12.0 seconds RetCode: 0 Status: OK PackageFile: ccrepe_1.42.0.tar.gz PackageFileSize: 292.3 KiB