Package: ceRNAnetsim Version: 1.18.0 Command: /Library/Frameworks/R.framework/Resources/bin/R CMD build --keep-empty-dirs --no-resave-data ceRNAnetsim StartedAt: 2025-02-03 20:20:17 -0500 (Mon, 03 Feb 2025) EndedAt: 2025-02-03 20:25:32 -0500 (Mon, 03 Feb 2025) EllapsedTime: 315.6 seconds RetCode: 0 Status: OK PackageFile: ceRNAnetsim_1.18.0.tar.gz PackageFileSize: 3.061 MiB