Package: ceRNAnetsim Version: 1.18.0 Command: chmod a+r ceRNAnetsim -R && F:\biocbuild\bbs-3.20-bioc\R\bin\R.exe CMD build --keep-empty-dirs --no-resave-data ceRNAnetsim StartedAt: 2025-02-03 18:02:35 -0500 (Mon, 03 Feb 2025) EndedAt: 2025-02-03 18:09:37 -0500 (Mon, 03 Feb 2025) EllapsedTime: 422.4 seconds RetCode: 0 Status: OK PackageFile: ceRNAnetsim_1.18.0.tar.gz PackageFileSize: 2.832 MiB