Package: celaref Version: 1.24.0 Command: /Library/Frameworks/R.framework/Resources/bin/R CMD check --install=check:celaref.install-out.txt --library=/Library/Frameworks/R.framework/Resources/library --no-vignettes --timings celaref_1.24.0.tar.gz StartedAt: 2024-11-19 20:19:57 -0500 (Tue, 19 Nov 2024) EndedAt: 2024-11-19 20:26:50 -0500 (Tue, 19 Nov 2024) EllapsedTime: 413.0 seconds RetCode: 0 Status: OK CheckDir: celaref.Rcheck Warnings: 0