Package: celaref Version: 1.24.0 Command: /Library/Frameworks/R.framework/Resources/bin/R CMD build --keep-empty-dirs --no-resave-data celaref StartedAt: 2025-01-30 17:45:57 -0500 (Thu, 30 Jan 2025) EndedAt: 2025-01-30 17:52:02 -0500 (Thu, 30 Jan 2025) EllapsedTime: 365.2 seconds RetCode: 0 Status: OK PackageFile: celaref_1.24.0.tar.gz PackageFileSize: 3.072 MiB