Package: celaref Version: 1.24.0 Command: /Library/Frameworks/R.framework/Resources/bin/R CMD check --install=check:celaref.install-out.txt --library=/Library/Frameworks/R.framework/Resources/library --no-vignettes --timings celaref_1.24.0.tar.gz StartedAt: 2025-01-31 01:20:27 -0500 (Fri, 31 Jan 2025) EndedAt: 2025-01-31 01:28:42 -0500 (Fri, 31 Jan 2025) EllapsedTime: 495.3 seconds RetCode: 0 Status: OK CheckDir: celaref.Rcheck Warnings: 0