Package: celaref Version: 1.24.0 Command: rm -rf celaref.buildbin-libdir && mkdir celaref.buildbin-libdir && F:\biocbuild\bbs-3.20-bioc\R\bin\R.exe CMD INSTALL --build --library=celaref.buildbin-libdir celaref_1.24.0.tar.gz StartedAt: 2025-02-04 08:09:23 -0500 (Tue, 04 Feb 2025) EndedAt: 2025-02-04 08:10:04 -0500 (Tue, 04 Feb 2025) EllapsedTime: 41.7 seconds RetCode: 0 Status: OK PackageFile: celaref_1.24.0.zip PackageFileSize: 2.02 MiB