Package: celaref Version: 1.24.0 Command: chmod a+r celaref -R && F:\biocbuild\bbs-3.20-bioc\R\bin\R.exe CMD build --keep-empty-dirs --no-resave-data celaref StartedAt: 2025-02-03 17:59:28 -0500 (Mon, 03 Feb 2025) EndedAt: 2025-02-03 18:03:49 -0500 (Mon, 03 Feb 2025) EllapsedTime: 260.9 seconds RetCode: 0 Status: OK PackageFile: celaref_1.24.0.tar.gz PackageFileSize: 2.031 MiB