Package: celda Version: 1.22.0 Command: rm -rf celda.buildbin-libdir && mkdir celda.buildbin-libdir && /Users/biocbuild/BBS/utils/build-universal.sh celda_1.22.0.tar.gz /Library/Frameworks/R.framework/Resources/bin/R celda.buildbin-libdir StartedAt: 2025-02-05 15:08:11 -0500 (Wed, 05 Feb 2025) EndedAt: 2025-02-05 15:09:25 -0500 (Wed, 05 Feb 2025) EllapsedTime: 74.0 seconds RetCode: 0 Status: OK PackageFile: celda_1.22.0.tgz PackageFileSize: 3.28 MiB