Package: celda Version: 1.22.0 Command: /Library/Frameworks/R.framework/Resources/bin/R CMD build --keep-empty-dirs --no-resave-data celda StartedAt: 2025-02-03 20:09:55 -0500 (Mon, 03 Feb 2025) EndedAt: 2025-02-03 20:15:56 -0500 (Mon, 03 Feb 2025) EllapsedTime: 361.7 seconds RetCode: 0 Status: OK PackageFile: celda_1.22.0.tar.gz PackageFileSize: 2.42 MiB