Package: celda Version: 1.22.0 Command: /Library/Frameworks/R.framework/Resources/bin/R CMD check --install=check:celda.install-out.txt --library=/Library/Frameworks/R.framework/Resources/library --no-vignettes --timings celda_1.22.0.tar.gz StartedAt: 2025-02-04 14:07:26 -0500 (Tue, 04 Feb 2025) EndedAt: 2025-02-04 14:14:08 -0500 (Tue, 04 Feb 2025) EllapsedTime: 401.9 seconds RetCode: 1 Status: ERROR CheckDir: celda.Rcheck Warnings: NA