Package: celda Version: 1.22.0 Command: /Library/Frameworks/R.framework/Resources/bin/R CMD INSTALL celda StartedAt: 2025-02-03 17:45:48 -0500 (Mon, 03 Feb 2025) EndedAt: 2025-02-03 17:46:55 -0500 (Mon, 03 Feb 2025) EllapsedTime: 66.9 seconds RetCode: 0 Status: OK