Package: celda Version: 1.22.0 Command: /home/biocbuild/bbs-3.20-bioc/R/bin/R CMD build --keep-empty-dirs --no-resave-data --md5 celda StartedAt: 2025-02-03 16:44:10 -0500 (Mon, 03 Feb 2025) EndedAt: 2025-02-03 16:49:05 -0500 (Mon, 03 Feb 2025) EllapsedTime: 295.3 seconds RetCode: 0 Status: OK PackageFile: celda_1.22.0.tar.gz PackageFileSize: 2.488 MiB