Package: celda Version: 1.22.0 Command: /home/biocbuild/bbs-3.20-bioc/R/bin/R CMD check --install=check:celda.install-out.txt --library=/home/biocbuild/bbs-3.20-bioc/R/site-library --timings celda_1.22.0.tar.gz StartedAt: 2025-02-03 20:48:00 -0500 (Mon, 03 Feb 2025) EndedAt: 2025-02-03 20:57:31 -0500 (Mon, 03 Feb 2025) EllapsedTime: 571.7 seconds RetCode: 1 Status: ERROR CheckDir: celda.Rcheck Warnings: NA