Package: celda Version: 1.22.0 Command: rm -rf celda.buildbin-libdir && mkdir celda.buildbin-libdir && F:\biocbuild\bbs-3.20-bioc\R\bin\R.exe CMD INSTALL --build --library=celda.buildbin-libdir celda_1.22.0.tar.gz StartedAt: 2025-02-04 08:09:24 -0500 (Tue, 04 Feb 2025) EndedAt: 2025-02-04 08:11:49 -0500 (Tue, 04 Feb 2025) EllapsedTime: 144.4 seconds RetCode: 0 Status: OK PackageFile: celda_1.22.0.zip PackageFileSize: 2.685 MiB