Package: celda Version: 1.22.0 Command: F:\biocbuild\bbs-3.20-bioc\R\bin\R.exe CMD check --no-multiarch --install=check:celda.install-out.txt --library=F:\biocbuild\bbs-3.20-bioc\R\library --no-vignettes --timings celda_1.22.0.tar.gz StartedAt: 2025-02-04 00:04:07 -0500 (Tue, 04 Feb 2025) EndedAt: 2025-02-04 00:11:42 -0500 (Tue, 04 Feb 2025) EllapsedTime: 455.2 seconds RetCode: 1 Status: ERROR CheckDir: celda.Rcheck Warnings: NA