Package: celda Version: 1.22.0 Command: /home/biocbuild/R/R/bin/R CMD build --keep-empty-dirs --no-resave-data celda StartedAt: 2025-02-03 22:27:00 -0000 (Mon, 03 Feb 2025) EndedAt: 2025-02-03 22:33:53 -0000 (Mon, 03 Feb 2025) EllapsedTime: 413.1 seconds RetCode: 0 Status: OK PackageFile: celda_1.22.0.tar.gz PackageFileSize: 1.541 MiB