Package: celda Version: 1.22.0 Command: /home/biocbuild/R/R/bin/R CMD check --install=check:celda.install-out.txt --library=/home/biocbuild/R/R/site-library --no-vignettes --timings celda_1.22.0.tar.gz StartedAt: 2025-02-04 05:26:14 -0000 (Tue, 04 Feb 2025) EndedAt: 2025-02-04 05:33:01 -0000 (Tue, 04 Feb 2025) EllapsedTime: 407.3 seconds RetCode: 1 Status: ERROR CheckDir: celda.Rcheck Warnings: NA