Package: celda Version: 1.22.0 Command: /home/biocbuild/R/R/bin/R CMD INSTALL celda StartedAt: 2025-02-03 21:17:19 -0000 (Mon, 03 Feb 2025) EndedAt: 2025-02-03 21:18:52 -0000 (Mon, 03 Feb 2025) EllapsedTime: 93.4 seconds RetCode: 0 Status: OK