Package: cellbaseR Version: 1.30.0 Command: /Library/Frameworks/R.framework/Resources/bin/R CMD build --keep-empty-dirs --no-resave-data cellbaseR StartedAt: 2025-01-30 20:21:04 -0500 (Thu, 30 Jan 2025) EndedAt: 2025-01-30 20:21:55 -0500 (Thu, 30 Jan 2025) EllapsedTime: 51.3 seconds RetCode: 0 Status: OK PackageFile: cellbaseR_1.30.0.tar.gz PackageFileSize: 531 KiB