Package: cellbaseR Version: 1.30.0 Command: /Library/Frameworks/R.framework/Resources/bin/R CMD INSTALL cellbaseR StartedAt: 2025-01-30 15:50:56 -0500 (Thu, 30 Jan 2025) EndedAt: 2025-01-30 15:51:12 -0500 (Thu, 30 Jan 2025) EllapsedTime: 16.4 seconds RetCode: 0 Status: OK