Package: cellbaseR Version: 1.30.0 Command: /home/biocbuild/bbs-3.20-bioc/R/bin/R CMD check --install=check:cellbaseR.install-out.txt --library=/home/biocbuild/bbs-3.20-bioc/R/site-library --timings cellbaseR_1.30.0.tar.gz StartedAt: 2025-01-30 20:38:23 -0500 (Thu, 30 Jan 2025) EndedAt: 2025-01-30 20:40:37 -0500 (Thu, 30 Jan 2025) EllapsedTime: 134.2 seconds RetCode: 0 Status: OK CheckDir: cellbaseR.Rcheck Warnings: 0