Package: cellbaseR Version: 1.30.0 Command: chmod a+r cellbaseR -R && F:\biocbuild\bbs-3.20-bioc\R\bin\R.exe CMD build --keep-empty-dirs --no-resave-data cellbaseR StartedAt: 2025-01-30 17:47:34 -0500 (Thu, 30 Jan 2025) EndedAt: 2025-01-30 17:49:07 -0500 (Thu, 30 Jan 2025) EllapsedTime: 93.0 seconds RetCode: 0 Status: OK PackageFile: cellbaseR_1.30.0.tar.gz PackageFileSize: 464.5 KiB