Package: cellbaseR Version: 1.30.0 Command: /home/biocbuild/R/R/bin/R CMD build --keep-empty-dirs --no-resave-data cellbaseR StartedAt: 2025-01-30 22:24:43 -0000 (Thu, 30 Jan 2025) EndedAt: 2025-01-30 22:25:54 -0000 (Thu, 30 Jan 2025) EllapsedTime: 71.0 seconds RetCode: 0 Status: OK PackageFile: cellbaseR_1.30.0.tar.gz PackageFileSize: 500.7 KiB