Package: cellbaseR Version: 1.30.0 Command: /home/biocbuild/R/R/bin/R CMD INSTALL cellbaseR StartedAt: 2025-01-30 20:21:59 -0000 (Thu, 30 Jan 2025) EndedAt: 2025-01-30 20:22:17 -0000 (Thu, 30 Jan 2025) EllapsedTime: 18.1 seconds RetCode: 0 Status: OK