Package: cellity Version: 1.34.0 Command: rm -rf cellity.buildbin-libdir && mkdir cellity.buildbin-libdir && F:\biocbuild\bbs-3.20-bioc\R\bin\R.exe CMD INSTALL --build --library=cellity.buildbin-libdir cellity_1.34.0.tar.gz StartedAt: 2025-02-04 08:09:34 -0500 (Tue, 04 Feb 2025) EndedAt: 2025-02-04 08:10:02 -0500 (Tue, 04 Feb 2025) EllapsedTime: 27.6 seconds RetCode: 0 Status: OK PackageFile: cellity_1.34.0.zip PackageFileSize: 1.233 MiB