Package: cellity Version: 1.34.0 Command: /home/biocbuild/R/R/bin/R CMD build --keep-empty-dirs --no-resave-data cellity StartedAt: 2025-02-03 22:27:57 -0000 (Mon, 03 Feb 2025) EndedAt: 2025-02-03 22:29:27 -0000 (Mon, 03 Feb 2025) EllapsedTime: 90.0 seconds RetCode: 0 Status: OK PackageFile: cellity_1.34.0.tar.gz PackageFileSize: 1.132 MiB