Package: cellity Version: 1.34.0 Command: /home/biocbuild/R/R/bin/R CMD INSTALL cellity StartedAt: 2025-02-03 20:40:47 -0000 (Mon, 03 Feb 2025) EndedAt: 2025-02-03 20:41:09 -0000 (Mon, 03 Feb 2025) EllapsedTime: 22.5 seconds RetCode: 0 Status: OK