Package: cellity Version: 1.34.0 Command: /home/biocbuild/bbs-3.20-bioc/R/bin/R CMD check --install=check:cellity.install-out.txt --library=/home/biocbuild/bbs-3.20-bioc/R/site-library --timings cellity_1.34.0.tar.gz StartedAt: 2024-11-20 00:03:15 -0500 (Wed, 20 Nov 2024) EndedAt: 2024-11-20 00:06:12 -0500 (Wed, 20 Nov 2024) EllapsedTime: 177.1 seconds RetCode: 0 Status: OK CheckDir: cellity.Rcheck Warnings: 0