Package: censcyt Version: 1.14.0 Command: /Library/Frameworks/R.framework/Resources/bin/R CMD check --install=check:censcyt.install-out.txt --library=/Library/Frameworks/R.framework/Resources/library --no-vignettes --timings censcyt_1.14.0.tar.gz StartedAt: 2025-01-31 13:51:04 -0500 (Fri, 31 Jan 2025) EndedAt: 2025-01-31 13:56:29 -0500 (Fri, 31 Jan 2025) EllapsedTime: 324.9 seconds RetCode: 0 Status: OK CheckDir: censcyt.Rcheck Warnings: 0