Package: censcyt Version: 1.14.0 Command: rm -rf censcyt.buildbin-libdir && mkdir censcyt.buildbin-libdir && /Users/biocbuild/BBS/utils/build-universal.sh censcyt_1.14.0.tar.gz /Library/Frameworks/R.framework/Resources/bin/R censcyt.buildbin-libdir StartedAt: 2025-01-31 12:29:43 -0500 (Fri, 31 Jan 2025) EndedAt: 2025-01-31 12:30:53 -0500 (Fri, 31 Jan 2025) EllapsedTime: 70.5 seconds RetCode: 0 Status: OK PackageFile: censcyt_1.14.0.tgz PackageFileSize: 606.1 KiB