Package: censcyt Version: 1.14.0 Command: /Library/Frameworks/R.framework/Resources/bin/R CMD build --keep-empty-dirs --no-resave-data censcyt StartedAt: 2025-01-30 17:48:39 -0500 (Thu, 30 Jan 2025) EndedAt: 2025-01-30 17:51:42 -0500 (Thu, 30 Jan 2025) EllapsedTime: 182.9 seconds RetCode: 0 Status: OK PackageFile: censcyt_1.14.0.tar.gz PackageFileSize: 510.4 KiB