Package: censcyt Version: 1.14.0 Command: /home/biocbuild/bbs-3.20-bioc/R/bin/R CMD build --keep-empty-dirs --no-resave-data --md5 censcyt StartedAt: 2025-01-30 16:36:39 -0500 (Thu, 30 Jan 2025) EndedAt: 2025-01-30 16:37:59 -0500 (Thu, 30 Jan 2025) EllapsedTime: 80.1 seconds RetCode: 0 Status: OK PackageFile: censcyt_1.14.0.tar.gz PackageFileSize: 523 KiB