Package: censcyt Version: 1.14.0 Command: F:\biocbuild\bbs-3.20-bioc\R\bin\R.exe CMD INSTALL censcyt StartedAt: 2025-01-30 16:56:08 -0500 (Thu, 30 Jan 2025) EndedAt: 2025-01-30 16:56:48 -0500 (Thu, 30 Jan 2025) EllapsedTime: 40.1 seconds RetCode: 0 Status: OK