Package: cfDNAPro Version: 1.12.0 Command: /Library/Frameworks/R.framework/Resources/bin/R CMD INSTALL cfDNAPro StartedAt: 2025-02-03 17:03:24 -0500 (Mon, 03 Feb 2025) EndedAt: 2025-02-03 17:04:02 -0500 (Mon, 03 Feb 2025) EllapsedTime: 38.2 seconds RetCode: 0 Status: OK