Package: cfDNAPro
Version: 1.12.0
Command: /home/biocbuild/R/R/bin/R CMD check --install=check:cfDNAPro.install-out.txt --library=/home/biocbuild/R/R/site-library --no-vignettes --timings cfDNAPro_1.12.0.tar.gz
StartedAt: 2024-11-20 06:07:05 -0000 (Wed, 20 Nov 2024)
EndedAt: 2024-11-20 06:12:19 -0000 (Wed, 20 Nov 2024)
EllapsedTime: 314.6 seconds
RetCode: 0
Status: WARNINGS
CheckDir: cfDNAPro.Rcheck
Warnings: 1