Package: cfDNAPro
Version: 1.12.0
Command: /Library/Frameworks/R.framework/Resources/bin/R CMD INSTALL cfDNAPro
StartedAt: 2024-11-19 15:32:03 -0500 (Tue, 19 Nov 2024)
EndedAt: 2024-11-19 15:32:48 -0500 (Tue, 19 Nov 2024)
EllapsedTime: 44.9 seconds
RetCode: 0
Status: OK