Package: cfDNAPro
Version: 1.12.0
Command: /home/biocbuild/bbs-3.20-bioc/R/bin/R CMD check --install=check:cfDNAPro.install-out.txt --library=/home/biocbuild/bbs-3.20-bioc/R/site-library --timings cfDNAPro_1.12.0.tar.gz
StartedAt: 2025-02-17 20:39:22 -0500 (Mon, 17 Feb 2025)
EndedAt: 2025-02-17 20:43:28 -0500 (Mon, 17 Feb 2025)
EllapsedTime: 246.3 seconds
RetCode: 0
Status: WARNINGS
CheckDir: cfDNAPro.Rcheck
Warnings: 1