Package: cfDNAPro Version: 1.12.0 Command: /home/biocbuild/bbs-3.20-bioc/R/bin/R CMD INSTALL cfDNAPro StartedAt: 2025-02-03 15:49:04 -0500 (Mon, 03 Feb 2025) EndedAt: 2025-02-03 15:49:39 -0500 (Mon, 03 Feb 2025) EllapsedTime: 34.7 seconds RetCode: 0 Status: OK