Package: cfDNAPro Version: 1.12.0 Command: /home/biocbuild/R/R/bin/R CMD INSTALL cfDNAPro StartedAt: 2025-02-03 21:03:16 -0000 (Mon, 03 Feb 2025) EndedAt: 2025-02-03 21:03:56 -0000 (Mon, 03 Feb 2025) EllapsedTime: 39.8 seconds RetCode: 0 Status: OK