Package: cfTools Version: 1.6.0 Command: /home/biocbuild/bbs-3.20-bioc/R/bin/R CMD check --install=check:cfTools.install-out.txt --library=/home/biocbuild/bbs-3.20-bioc/R/site-library --timings cfTools_1.6.0.tar.gz StartedAt: 2025-02-03 20:52:57 -0500 (Mon, 03 Feb 2025) EndedAt: 2025-02-03 20:56:12 -0500 (Mon, 03 Feb 2025) EllapsedTime: 195.2 seconds RetCode: 0 Status: OK CheckDir: cfTools.Rcheck Warnings: 0