Package: cfTools Version: 1.6.0 Command: /home/biocbuild/bbs-3.20-bioc/R/bin/R CMD INSTALL cfTools StartedAt: 2025-02-03 15:26:28 -0500 (Mon, 03 Feb 2025) EndedAt: 2025-02-03 15:27:14 -0500 (Mon, 03 Feb 2025) EllapsedTime: 45.5 seconds RetCode: 0 Status: OK