Package: cfTools Version: 1.6.0 Command: chmod a+r cfTools -R && F:\biocbuild\bbs-3.20-bioc\R\bin\R.exe --arch x64 CMD build --keep-empty-dirs --no-resave-data cfTools StartedAt: 2025-02-03 18:03:50 -0500 (Mon, 03 Feb 2025) EndedAt: 2025-02-03 18:11:19 -0500 (Mon, 03 Feb 2025) EllapsedTime: 448.3 seconds RetCode: 1 Status: ERROR PackageFile: None PackageFileSize: NA