Package: cghMCR Version: 1.64.0 Command: /Library/Frameworks/R.framework/Resources/bin/R CMD INSTALL cghMCR StartedAt: 2025-02-03 17:33:19 -0500 (Mon, 03 Feb 2025) EndedAt: 2025-02-03 17:33:43 -0500 (Mon, 03 Feb 2025) EllapsedTime: 23.5 seconds RetCode: 0 Status: OK