Package: cghMCR
Version: 1.63.0
Command: C:\Users\biocbuild\bbs-3.20-bioc\R\bin\R.exe CMD INSTALL cghMCR
StartedAt: 2024-07-15 16:05:04 -0400 (Mon, 15 Jul 2024)
EndedAt: 2024-07-15 16:05:33 -0400 (Mon, 15 Jul 2024)
EllapsedTime: 29.7 seconds
RetCode: 0
Status: OK